BEGIN:VCALENDAR
VERSION:2.0
PRODID:-//eventon.com NONSGML v1.0//EN
CALSCALE:GREGORIAN
METHOD:PUBLISH
BEGIN:VEVENT
UID:69e88ddece3bc
DTSTAMP:20260422T085910Z
DTSTART:20241115T193000Z
DTEND:20241115T225900Z
LOCATION:Jazzclub Kelkheim e.V. Rotlintallee 2\,  65779 Kelkheim
SUMMARY:More Maids
DESCRIPTION:Alles begann 1994 bei der 25. Harlekinade des Folkclubs Ludwigs
 hafen. Auf dem renommierten Festival wurde neben den Poozies als Haupt-Act 
 noch ein rein weiblicher Support gesucht &#8211; vergeblich. Marion Fluck a
 ls Mitglied des Folkclubs beschloss kurzerhand selbst eine Frauen-Band zu g
 ründen\,  mit Gudrun Walther (Fiddle)\,  Ute Käufler (Harfe)\,  Petra Sie
 b[..]\nhttps://www.jazzclub-kelkheim.de/events/more-maids/
URL:https://www.jazzclub-kelkheim.de/events/more-maids/
END:VEVENT
END:VCALENDAR