BEGIN:VCALENDAR
VERSION:2.0
PRODID:-//eventon.com NONSGML v1.0//EN
CALSCALE:GREGORIAN
METHOD:PUBLISH
BEGIN:VEVENT
UID:69e8a463eb726
DTSTAMP:20260422T103515Z
DTSTART:20250516T180000Z
DTEND:20250516T215900Z
LOCATION:Jazzclub Kelkheim e.V. Rotlintallee 2\,  65779 Kelkheim
SUMMARY:Jazz-Baroness Pannonica de Koenigswarter (Ausverkauft!)
DESCRIPTION:Foto: © Steinkis\,  2020  Der Zonta Club am Taunus präsentie
 rt in Kooperation mit dem Jazzclub-Kelkheim Ein Abend voller Erzählungen u
 nd Jazz Rebellin aus der Rothschild Familie Jazz-Baroness Pannonica de Koen
 igswarter Eingetaucht in das Ambiente eines New Yorker Jazz Clubs erwartet 
 Sie ein Abend voller Jazz und inspirierenden Geschichten. In der[..]\nhttps
 ://www.jazzclub-kelkheim.de/events/jazz-baroness-pannonica-de-koenigswarter
 /
URL:https://www.jazzclub-kelkheim.de/events/jazz-baroness-pannonica-de-koenigswarter/
END:VEVENT
END:VCALENDAR