BEGIN:VCALENDAR
VERSION:2.0
PRODID:-//eventon.com NONSGML v1.0//EN
CALSCALE:GREGORIAN
METHOD:PUBLISH
BEGIN:VEVENT
UID:69eb462a75fa9
DTSTAMP:20260424T103002Z
DTSTART:20230907T183000Z
DTEND:20230907T215000Z
LOCATION:Jazzclub Kelkheim e.V. Rotlintallee 2\,  65779 Kelkheim
SUMMARY:John McCusker\,  Mike McGoldrick & John Doyle
DESCRIPTION:Weltweit bekannt und als Ikonen des keltischen Folks bezeichnet
  &#8211; die Wege von John McCusker\,  Mike McGoldrick &amp; John Doyle kre
 uzten sich bereits vor einem Vierteljahrhundert; ihre Freundschaft und musi
 kalische Verwandtschaft krönten sie mit ihrem ersten Studioalbum „The Wi
 shing Tree“\,  einer aufregenden Reise durch traditionelle\,  zeitgenöss
 ische und originelle keltische Tanzmelodien[..]\nhttps://www.jazzclub-kelkh
 eim.de/events/john-mccusker-mike-mcgoldrick-john-doyle/
URL:https://www.jazzclub-kelkheim.de/events/john-mccusker-mike-mcgoldrick-john-doyle/
END:VEVENT
END:VCALENDAR